BEGIN:VCALENDAR
VERSION:2.0
PRODID:-//Contratero//ES
CALSCALE:GREGORIAN
METHOD:PUBLISH
BEGIN:VEVENT
UID:SP23-00291 / SP23-00550@contratero.es
DTSTAMP:20260425T014535Z
DTSTART:20231116T235959
DTEND:20231117T005959
SUMMARY:Cierre: Servicio de mantenimiento del aplicativo y de los 
DESCRIPTION:Servicio de mantenimiento del aplicativo y de los desarrollos evolutivos basados en la herramienta Microsoft Dynamics Navi 2009 R2 para Madrid Destino\\n\\nOrganismo: Madrid Destino Cultura Turismo y Negocio\, S.A.\\n\\nVer en Contratero: https://contratero.es/contracts/SP23-00291 / SP23-00550
URL:https://contratero.es/contracts/SP23-00291 / SP23-00550
STATUS:CONFIRMED
BEGIN:VALARM
TRIGGER:-P1D
ACTION:DISPLAY
DESCRIPTION:Recordatorio: Servicio de mantenimiento del 
END:VALARM
END:VEVENT
END:VCALENDAR